BEGIN:VCALENDAR
VERSION:2.0
PRODID:-//eventon.com NONSGML v1.0//EN
CALSCALE:GREGORIAN
METHOD:PUBLISH
BEGIN:VEVENT
UID:69e5b9531743d
DTSTAMP:20260420T052747Z
DTSTART:20251119
DTEND:20251120
LOCATION:Terra Botanica Angers
SUMMARY:JFRS 2025
DESCRIPTION:Les&nbsp;&nbsp;JFRS\,  Journées francophones de recherche en s
 oins&nbsp;: une dynamique nationale et internationale pour la promotion et 
 la valorisation de la recherche paramédicale. Le réseau Recherches et Inn
 ovations Paramédicales du GIRCI Grand Ouest vous donne rendez-vous pour&nb
 sp;la&nbsp;8ème édition&nbsp;des JFRS&nbsp;qui se tiendront les&nbsp;19 e
 t 20 novembre 2025&nbsp;à&nbsp;Terra Botanica à Angers. En attendant[..]\
 nhttps://www.girci-go.org/eventss/jfrs-2025/
URL:https://www.girci-go.org/eventss/jfrs-2025/
END:VEVENT
END:VCALENDAR