BEGIN:VCALENDAR
VERSION:2.0
PRODID:-//eventon.com NONSGML v1.0//EN
CALSCALE:GREGORIAN
METHOD:PUBLISH
BEGIN:VEVENT
UID:69ea826580701
DTSTAMP:20260423T203445Z
DTSTART:20210603T143000Z
DTEND:20210603T150000Z
LOCATION:https://larechercheparamedicale.fr/2021/04/14/le-programme-du-2e-trimestre-2021/
SUMMARY:#Jeudis de la recherche paramédicale
DESCRIPTION:#Jeudis de la recherche paramédicale\nhttps://www.girci-go.org
 /eventss/jeudis-de-la-recherche-paramedicale/var/event_access
URL:https://www.girci-go.org/eventss/jeudis-de-la-recherche-paramedicale/var/event_access
END:VEVENT
END:VCALENDAR